BEGIN:VCALENDAR
VERSION:2.0
PRODID:-//wp-events-plugin.com//7.2.3.1//EN
TZID:Europe/Madrid
X-WR-TIMEZONE:Europe/Madrid
BEGIN:VEVENT
UID:16@lunivers.es
DTSTART;TZID=Europe/Madrid:20250820T220000
DTEND;TZID=Europe/Madrid:20250820T233000
DTSTAMP:20250811T103141Z
URL:https://www.lunivers.es/agenda/observacion-nocturna-en-sesue/
SUMMARY:Observación nocturna en Sesué
DESCRIPTION:Observación nocturna con telescopio en Sesué\, guiada por L
 ’univers. Actividad gratuita para descubrir el cielo estrellado en plena
  naturaleza.
ATTACH;FMTTYPE=image/jpeg:https://www.lunivers.es/wp-content/uploads/obser
 vacion-simple-vista-medium.webp
END:VEVENT
BEGIN:VTIMEZONE
TZID:Europe/Madrid
X-LIC-LOCATION:Europe/Madrid
BEGIN:DAYLIGHT
DTSTART:20250330T030000
TZOFFSETFROM:+0100
TZOFFSETTO:+0200
TZNAME:CEST
END:DAYLIGHT
END:VTIMEZONE
END:VCALENDAR