BEGIN:VCALENDAR
VERSION:2.0
PRODID:-//wp-events-plugin.com//7.2.3.1//EN
TZID:Europe/Madrid
X-WR-TIMEZONE:Europe/Madrid
BEGIN:VEVENT
UID:21@lunivers.es
DTSTART;TZID=Europe/Madrid:20250824T214500
DTEND;TZID=Europe/Madrid:20250830T231500
DTSTAMP:20250827T095344Z
URL:https://www.lunivers.es/agenda/observacion-del-cielo-de-verano/
SUMMARY:Observación del cielo de verano
DESCRIPTION:Descubre el cielo de verano en el Valle de Benasque con L’uni
 vers. Una velada astronómica para observar estrellas\, constelaciones y p
 lanetas que solo se ven en esta estación.
ATTACH;FMTTYPE=image/jpeg:https://www.lunivers.es/wp-content/uploads/obser
 vacion-telescopio-medium.webp
LOCATION:Llanos del Hospital\, Camino Real de Francia\, s/n\, Benasque\, Es
 paña
X-APPLE-STRUCTURED-LOCATION;VALUE=URI;X-ADDRESS=Camino Real de Francia\, s/
 n\, Benasque\, España;X-APPLE-RADIUS=100;X-TITLE=Llanos del Hospital:geo:
 0,0
END:VEVENT
BEGIN:VTIMEZONE
TZID:Europe/Madrid
X-LIC-LOCATION:Europe/Madrid
BEGIN:DAYLIGHT
DTSTART:20250330T030000
TZOFFSETFROM:+0100
TZOFFSETTO:+0200
TZNAME:CEST
END:DAYLIGHT
END:VTIMEZONE
END:VCALENDAR