BEGIN:VCALENDAR
VERSION:2.0
PRODID:-//wp-events-plugin.com//7.2.3.1//EN
TZID:Europe/Madrid
X-WR-TIMEZONE:Europe/Madrid
BEGIN:VEVENT
UID:42@lunivers.es
DTSTART;TZID=Europe/Madrid:20251115T200000
DTEND;TZID=Europe/Madrid:20251115T213000
DTSTAMP:20251107T131127Z
URL:https://www.lunivers.es/agenda/noche-de-estrellas-fugaces/
SUMMARY:Noche de estrellas fugaces
DESCRIPTION:Noche de observación bajo las estrellas el sábado 15 de novie
 mbre. Aunque las lluvias de meteoros no estarán en su punto álgido\, el 
 cielo ofrecerá actividad de varias lluvias —Táuridas\, Leónidas y Alf
 a Mónocerótidas—\, con posibilidades de ver alguna estrella fugaz en u
 n entorno sin Luna y acompañado de telescopios y explicaciones astronómi
 cas.
ATTACH;FMTTYPE=image/jpeg:https://www.lunivers.es/wp-content/uploads/Noche
 -de-estrellas-fugaces-1.jpg
END:VEVENT
BEGIN:VTIMEZONE
TZID:Europe/Madrid
X-LIC-LOCATION:Europe/Madrid
BEGIN:STANDARD
DTSTART:20251026T020000
TZOFFSETFROM:+0200
TZOFFSETTO:+0100
TZNAME:CET
END:STANDARD
END:VTIMEZONE
END:VCALENDAR